Package: SimBu Version: 1.6.0 Command: chmod a+r SimBu -R && E:\biocbuild\bbs-3.19-bioc\R\bin\R.exe CMD build --keep-empty-dirs --no-resave-data SimBu StartedAt: 2024-10-16 21:58:45 -0400 (Wed, 16 Oct 2024) EndedAt: 2024-10-16 22:00:04 -0400 (Wed, 16 Oct 2024) EllapsedTime: 79.2 seconds RetCode: 0 Status: OK PackageFile: SimBu_1.6.0.tar.gz PackageFileSize: 114.9 KiB