Package: SimBu Version: 1.6.0 Command: E:\biocbuild\bbs-3.19-bioc\R\bin\R.exe CMD check --no-multiarch --install=check:SimBu.install-out.txt --library=E:\biocbuild\bbs-3.19-bioc\R\library --no-vignettes --timings SimBu_1.6.0.tar.gz StartedAt: 2024-10-17 05:48:34 -0400 (Thu, 17 Oct 2024) EndedAt: 2024-10-17 05:53:56 -0400 (Thu, 17 Oct 2024) EllapsedTime: 322.1 seconds RetCode: 0 Status: OK CheckDir: SimBu.Rcheck Warnings: 0