Package: SingleR Version: 2.6.0 Command: rm -rf SingleR.buildbin-libdir && mkdir SingleR.buildbin-libdir && /Users/biocbuild/BBS/utils/build-universal.sh SingleR_2.6.0.tar.gz /Library/Frameworks/R.framework/Resources/bin/R SingleR.buildbin-libdir StartedAt: 2024-10-15 20:21:31 -0400 (Tue, 15 Oct 2024) EndedAt: 2024-10-15 20:22:58 -0400 (Tue, 15 Oct 2024) EllapsedTime: 87.0 seconds RetCode: 0 Status: OK PackageFile: SingleR_2.6.0.tgz PackageFileSize: 1.068 MiB