Package: SingleR Version: 2.6.0 Command: /Library/Frameworks/R.framework/Resources/bin/R CMD INSTALL SingleR StartedAt: 2024-10-16 18:26:01 -0400 (Wed, 16 Oct 2024) EndedAt: 2024-10-16 18:27:09 -0400 (Wed, 16 Oct 2024) EllapsedTime: 68.0 seconds RetCode: 0 Status: OK