Package: SingleR Version: 2.6.0 Command: /Library/Frameworks/R.framework/Resources/bin/R CMD build --keep-empty-dirs --no-resave-data SingleR StartedAt: 2024-06-10 05:00:41 -0400 (Mon, 10 Jun 2024) EndedAt: 2024-06-10 05:04:17 -0400 (Mon, 10 Jun 2024) EllapsedTime: 216.6 seconds RetCode: 0 Status: OK PackageFile: SingleR_2.6.0.tar.gz PackageFileSize: 865.3 KiB