Package: SingleR Version: 2.6.0 Command: /home/biocbuild/R/R-beta-2024-04-15_r86425/bin/R CMD build --keep-empty-dirs --no-resave-data SingleR StartedAt: 2024-05-09 03:40:57 -0000 (Thu, 09 May 2024) EndedAt: 2024-05-09 03:44:22 -0000 (Thu, 09 May 2024) EllapsedTime: 205.3 seconds RetCode: 0 Status: OK PackageFile: SingleR_2.6.0.tar.gz PackageFileSize: 616.8 KiB