Package: SingleR Version: 2.6.0 Command: /home/biocbuild/bbs-3.19-bioc/R/bin/R CMD build --keep-empty-dirs --no-resave-data SingleR StartedAt: 2024-10-16 20:53:22 -0400 (Wed, 16 Oct 2024) EndedAt: 2024-10-16 20:55:29 -0400 (Wed, 16 Oct 2024) EllapsedTime: 127.3 seconds RetCode: 0 Status: OK PackageFile: SingleR_2.6.0.tar.gz PackageFileSize: 732.6 KiB