Package: SingleR Version: 2.6.0 Command: /home/biocbuild/bbs-3.19-bioc/R/bin/R CMD INSTALL SingleR StartedAt: 2024-10-16 16:37:53 -0400 (Wed, 16 Oct 2024) EndedAt: 2024-10-16 16:39:05 -0400 (Wed, 16 Oct 2024) EllapsedTime: 72.3 seconds RetCode: 0 Status: OK