Package: SingleR Version: 2.6.0 Command: chmod a+r SingleR -R && F:\biocbuild\bbs-3.19-bioc\R\bin\R.exe CMD build --keep-empty-dirs --no-resave-data SingleR StartedAt: 2024-06-26 22:01:15 -0400 (Wed, 26 Jun 2024) EndedAt: 2024-06-26 22:04:27 -0400 (Wed, 26 Jun 2024) EllapsedTime: 192.1 seconds RetCode: 0 Status: OK PackageFile: SingleR_2.6.0.tar.gz PackageFileSize: 558.4 KiB