Package: SomaticSignatures Version: 2.40.0 Command: rm -rf SomaticSignatures.buildbin-libdir && mkdir SomaticSignatures.buildbin-libdir && /Users/biocbuild/BBS/utils/build-universal.sh SomaticSignatures_2.40.0.tar.gz /Library/Frameworks/R.framework/Resources/bin/R SomaticSignatures.buildbin-libdir StartedAt: 2024-10-15 20:23:58 -0400 (Tue, 15 Oct 2024) EndedAt: 2024-10-15 20:25:21 -0400 (Tue, 15 Oct 2024) EllapsedTime: 83.1 seconds RetCode: 0 Status: OK PackageFile: SomaticSignatures_2.40.0.tgz PackageFileSize: 3.505 MiB