Package: SomaticSignatures Version: 2.40.0 Command: /Library/Frameworks/R.framework/Resources/bin/R CMD build --keep-empty-dirs --no-resave-data SomaticSignatures StartedAt: 2024-10-17 09:39:08 -0400 (Thu, 17 Oct 2024) EndedAt: 2024-10-17 09:42:40 -0400 (Thu, 17 Oct 2024) EllapsedTime: 212.5 seconds RetCode: 0 Status: OK PackageFile: SomaticSignatures_2.40.0.tar.gz PackageFileSize: 2.817 MiB