Package: SomaticSignatures Version: 2.40.0 Command: /Library/Frameworks/R.framework/Resources/bin/R CMD check --install=check:SomaticSignatures.install-out.txt --library=/Library/Frameworks/R.framework/Resources/library --no-vignettes --timings SomaticSignatures_2.40.0.tar.gz StartedAt: 2024-10-18 13:02:37 -0400 (Fri, 18 Oct 2024) EndedAt: 2024-10-18 13:12:08 -0400 (Fri, 18 Oct 2024) EllapsedTime: 570.8 seconds RetCode: 1 Status: ERROR CheckDir: SomaticSignatures.Rcheck Warnings: NA