Package: SomaticSignatures Version: 2.40.0 Command: /Library/Frameworks/R.framework/Resources/bin/R CMD check --install=check:SomaticSignatures.install-out.txt --library=/Library/Frameworks/R.framework/Resources/library --no-vignettes --timings SomaticSignatures_2.40.0.tar.gz StartedAt: 2024-06-11 06:19:32 -0400 (Tue, 11 Jun 2024) EndedAt: 2024-06-11 06:33:31 -0400 (Tue, 11 Jun 2024) EllapsedTime: 838.5 seconds RetCode: 1 Status: ERROR CheckDir: SomaticSignatures.Rcheck Warnings: NA