Package: SomaticSignatures Version: 2.40.0 Command: /home/biocbuild/R/R-beta-2024-04-15_r86425/bin/R CMD INSTALL SomaticSignatures StartedAt: 2024-05-08 20:41:02 -0000 (Wed, 08 May 2024) EndedAt: 2024-05-08 20:42:19 -0000 (Wed, 08 May 2024) EllapsedTime: 76.9 seconds RetCode: 0 Status: OK