Package: SomaticSignatures Version: 2.40.0 Command: /Library/Frameworks/R.framework/Resources/bin/R CMD check --install=check:SomaticSignatures.install-out.txt --library=/Library/Frameworks/R.framework/Resources/library --no-vignettes --timings SomaticSignatures_2.40.0.tar.gz StartedAt: 2024-06-09 23:11:35 -0400 (Sun, 09 Jun 2024) EndedAt: 2024-06-09 23:20:22 -0400 (Sun, 09 Jun 2024) EllapsedTime: 527.2 seconds RetCode: 0 Status: OK CheckDir: SomaticSignatures.Rcheck Warnings: 0