Package: SomaticSignatures Version: 2.40.0 Command: rm -rf SomaticSignatures.buildbin-libdir && mkdir SomaticSignatures.buildbin-libdir && /Users/biocbuild/BBS/utils/build-universal.sh SomaticSignatures_2.40.0.tar.gz /Library/Frameworks/R.framework/Resources/bin/R SomaticSignatures.buildbin-libdir StartedAt: 2024-10-17 17:15:12 -0400 (Thu, 17 Oct 2024) EndedAt: 2024-10-17 17:17:29 -0400 (Thu, 17 Oct 2024) EllapsedTime: 136.9 seconds RetCode: 0 Status: OK PackageFile: SomaticSignatures_2.40.0.tgz PackageFileSize: 3.505 MiB