Package: SomaticSignatures Version: 2.40.0 Command: /home/biocbuild/bbs-3.19-bioc/R/bin/R CMD build --keep-empty-dirs --no-resave-data SomaticSignatures StartedAt: 2024-10-16 20:55:37 -0400 (Wed, 16 Oct 2024) EndedAt: 2024-10-16 20:58:16 -0400 (Wed, 16 Oct 2024) EllapsedTime: 159.3 seconds RetCode: 0 Status: OK PackageFile: SomaticSignatures_2.40.0.tar.gz PackageFileSize: 1.859 MiB