Package: SomaticSignatures Version: 2.40.0 Command: chmod a+r SomaticSignatures -R && F:\biocbuild\bbs-3.19-bioc\R\bin\R.exe CMD build --keep-empty-dirs --no-resave-data SomaticSignatures StartedAt: 2024-06-26 22:04:07 -0400 (Wed, 26 Jun 2024) EndedAt: 2024-06-26 22:11:21 -0400 (Wed, 26 Jun 2024) EllapsedTime: 434.5 seconds RetCode: 0 Status: OK PackageFile: SomaticSignatures_2.40.0.tar.gz PackageFileSize: 783.5 KiB