Package: SomaticSignatures Version: 2.40.0 Command: rm -rf SomaticSignatures.buildbin-libdir && mkdir SomaticSignatures.buildbin-libdir && E:\biocbuild\bbs-3.19-bioc\R\bin\R.exe CMD INSTALL --build --library=SomaticSignatures.buildbin-libdir SomaticSignatures_2.40.0.tar.gz StartedAt: 2024-10-17 08:41:08 -0400 (Thu, 17 Oct 2024) EndedAt: 2024-10-17 08:43:12 -0400 (Thu, 17 Oct 2024) EllapsedTime: 123.5 seconds RetCode: 0 Status: OK PackageFile: SomaticSignatures_2.40.0.zip PackageFileSize: 1.449 MiB