Package: SpatialCPie Version: 1.20.0 Command: /Library/Frameworks/R.framework/Resources/bin/R CMD check --install=check:SpatialCPie.install-out.txt --library=/Library/Frameworks/R.framework/Resources/library --no-vignettes --timings SpatialCPie_1.20.0.tar.gz StartedAt: 2024-10-18 13:13:26 -0400 (Fri, 18 Oct 2024) EndedAt: 2024-10-18 13:16:59 -0400 (Fri, 18 Oct 2024) EllapsedTime: 213.6 seconds RetCode: 0 Status: OK CheckDir: SpatialCPie.Rcheck Warnings: 0