Package: SpatialCPie Version: 1.20.0 Command: /home/biocbuild/bbs-3.19-bioc/R/bin/R CMD check --install=check:SpatialCPie.install-out.txt --library=/home/biocbuild/bbs-3.19-bioc/R/site-library --timings SpatialCPie_1.20.0.tar.gz StartedAt: 2024-10-17 05:22:37 -0400 (Thu, 17 Oct 2024) EndedAt: 2024-10-17 05:25:38 -0400 (Thu, 17 Oct 2024) EllapsedTime: 181.4 seconds RetCode: 0 Status: OK CheckDir: SpatialCPie.Rcheck Warnings: 0