Package: SpatialCPie Version: 1.20.0 Command: rm -rf SpatialCPie.buildbin-libdir && mkdir SpatialCPie.buildbin-libdir && E:\biocbuild\bbs-3.19-bioc\R\bin\R.exe CMD INSTALL --build --library=SpatialCPie.buildbin-libdir SpatialCPie_1.20.0.tar.gz StartedAt: 2024-10-17 08:41:47 -0400 (Thu, 17 Oct 2024) EndedAt: 2024-10-17 08:42:28 -0400 (Thu, 17 Oct 2024) EllapsedTime: 40.9 seconds RetCode: 0 Status: OK PackageFile: SpatialCPie_1.20.0.zip PackageFileSize: 1.061 MiB