Package: SpatialDecon Version: 1.14.0 Command: /Library/Frameworks/R.framework/Resources/bin/R CMD build --keep-empty-dirs --no-resave-data SpatialDecon StartedAt: 2024-10-17 09:48:26 -0400 (Thu, 17 Oct 2024) EndedAt: 2024-10-17 09:51:20 -0400 (Thu, 17 Oct 2024) EllapsedTime: 173.5 seconds RetCode: 0 Status: OK PackageFile: SpatialDecon_1.14.0.tar.gz PackageFileSize: 5.28 MiB