Package: SpeCond Version: 1.58.0 Command: /Library/Frameworks/R.framework/Resources/bin/R CMD build --keep-empty-dirs --no-resave-data SpeCond StartedAt: 2024-10-17 09:52:07 -0400 (Thu, 17 Oct 2024) EndedAt: 2024-10-17 09:53:08 -0400 (Thu, 17 Oct 2024) EllapsedTime: 60.6 seconds RetCode: 0 Status: OK PackageFile: SpeCond_1.58.0.tar.gz PackageFileSize: 1.699 MiB