Package: SpeCond Version: 1.58.0 Command: /Library/Frameworks/R.framework/Resources/bin/R CMD check --install=check:SpeCond.install-out.txt --library=/Library/Frameworks/R.framework/Resources/library --no-vignettes --timings SpeCond_1.58.0.tar.gz StartedAt: 2024-10-18 13:29:21 -0400 (Fri, 18 Oct 2024) EndedAt: 2024-10-18 13:30:51 -0400 (Fri, 18 Oct 2024) EllapsedTime: 90.1 seconds RetCode: 0 Status: OK CheckDir: SpeCond.Rcheck Warnings: 0