Package: SpeCond Version: 1.58.0 Command: /Library/Frameworks/R.framework/Resources/bin/R CMD INSTALL SpeCond StartedAt: 2024-06-09 15:08:14 -0400 (Sun, 09 Jun 2024) EndedAt: 2024-06-09 15:08:31 -0400 (Sun, 09 Jun 2024) EllapsedTime: 16.7 seconds RetCode: 0 Status: OK