Package: SpeCond Version: 1.58.0 Command: chmod a+r SpeCond -R && F:\biocbuild\bbs-3.19-bioc\R\bin\R.exe CMD build --keep-empty-dirs --no-resave-data SpeCond StartedAt: 2024-06-26 22:08:11 -0400 (Wed, 26 Jun 2024) EndedAt: 2024-06-26 22:09:33 -0400 (Wed, 26 Jun 2024) EllapsedTime: 81.8 seconds RetCode: 0 Status: OK PackageFile: SpeCond_1.58.0.tar.gz PackageFileSize: 1.701 MiB