Package: SpeCond Version: 1.58.0 Command: E:\biocbuild\bbs-3.19-bioc\R\bin\R.exe CMD INSTALL SpeCond StartedAt: 2024-10-16 16:09:45 -0400 (Wed, 16 Oct 2024) EndedAt: 2024-10-16 16:10:01 -0400 (Wed, 16 Oct 2024) EllapsedTime: 15.2 seconds RetCode: 0 Status: OK