Package: SpidermiR Version: 1.34.0 Command: /Library/Frameworks/R.framework/Resources/bin/R CMD check --install=check:SpidermiR.install-out.txt --library=/Library/Frameworks/R.framework/Resources/library --no-vignettes --timings SpidermiR_1.34.0.tar.gz StartedAt: 2024-10-18 13:33:29 -0400 (Fri, 18 Oct 2024) EndedAt: 2024-10-18 13:35:45 -0400 (Fri, 18 Oct 2024) EllapsedTime: 135.4 seconds RetCode: 1 Status: ERROR CheckDir: SpidermiR.Rcheck Warnings: NA