Package: SpidermiR Version: 1.34.0 Command: rm -rf SpidermiR.buildbin-libdir && mkdir SpidermiR.buildbin-libdir && /Users/biocbuild/BBS/utils/build-universal.sh SpidermiR_1.34.0.tar.gz /Library/Frameworks/R.framework/Resources/bin/R SpidermiR.buildbin-libdir StartedAt: 2024-06-11 13:23:09 -0400 (Tue, 11 Jun 2024) EndedAt: 2024-06-11 13:23:39 -0400 (Tue, 11 Jun 2024) EllapsedTime: 30.2 seconds RetCode: 0 Status: OK PackageFile: SpidermiR_1.34.0.tgz PackageFileSize: 55.26 KiB