Package: SpidermiR Version: 1.34.0 Command: /Library/Frameworks/R.framework/Resources/bin/R CMD check --install=check:SpidermiR.install-out.txt --library=/Library/Frameworks/R.framework/Resources/library --no-vignettes --timings SpidermiR_1.34.0.tar.gz StartedAt: 2024-06-11 06:50:03 -0400 (Tue, 11 Jun 2024) EndedAt: 2024-06-11 06:53:00 -0400 (Tue, 11 Jun 2024) EllapsedTime: 176.3 seconds RetCode: 1 Status: ERROR CheckDir: SpidermiR.Rcheck Warnings: NA