Package: SpidermiR Version: 1.34.0 Command: /home/biocbuild/R/R-beta-2024-04-15_r86425/bin/R CMD build --keep-empty-dirs --no-resave-data SpidermiR StartedAt: 2024-05-09 03:50:07 -0000 (Thu, 09 May 2024) EndedAt: 2024-05-09 03:50:08 -0000 (Thu, 09 May 2024) EllapsedTime: 1.0 seconds RetCode: 0 Status: OK PackageFile: SpidermiR_1.34.0.tar.gz PackageFileSize: 8.68 KiB