Package: SpidermiR Version: 1.34.0 Command: /home/biocbuild/R/R-beta-2024-04-15_r86425/bin/R CMD check --install=check:SpidermiR.install-out.txt --library=/home/biocbuild/R/R-beta-2024-04-15_r86425/site-library --no-vignettes --timings SpidermiR_1.34.0.tar.gz StartedAt: 2024-05-08 12:16:16 -0000 (Wed, 08 May 2024) EndedAt: 2024-05-08 12:18:27 -0000 (Wed, 08 May 2024) EllapsedTime: 131.2 seconds RetCode: 1 Status: ERROR CheckDir: SpidermiR.Rcheck Warnings: NA