Package: SpidermiR Version: 1.34.0 Command: /Library/Frameworks/R.framework/Resources/bin/R CMD check --install=check:SpidermiR.install-out.txt --library=/Library/Frameworks/R.framework/Resources/library --no-vignettes --timings SpidermiR_1.34.0.tar.gz StartedAt: 2024-10-17 13:40:00 -0400 (Thu, 17 Oct 2024) EndedAt: 2024-10-17 13:43:56 -0400 (Thu, 17 Oct 2024) EllapsedTime: 236.2 seconds RetCode: 1 Status: ERROR CheckDir: SpidermiR.Rcheck Warnings: NA