Package: SpidermiR Version: 1.34.0 Command: /home/biocbuild/bbs-3.19-bioc/R/bin/R CMD check --install=check:SpidermiR.install-out.txt --library=/home/biocbuild/bbs-3.19-bioc/R/site-library --timings SpidermiR_1.34.0.tar.gz StartedAt: 2024-10-17 05:27:20 -0400 (Thu, 17 Oct 2024) EndedAt: 2024-10-17 05:29:00 -0400 (Thu, 17 Oct 2024) EllapsedTime: 100.2 seconds RetCode: 1 Status: ERROR CheckDir: SpidermiR.Rcheck Warnings: NA