Package: SpidermiR Version: 1.34.0 Command: rm -rf SpidermiR.buildbin-libdir && mkdir SpidermiR.buildbin-libdir && E:\biocbuild\bbs-3.19-bioc\R\bin\R.exe CMD INSTALL --build --library=SpidermiR.buildbin-libdir SpidermiR_1.34.0.tar.gz StartedAt: 2024-10-17 08:42:44 -0400 (Thu, 17 Oct 2024) EndedAt: 2024-10-17 08:43:04 -0400 (Thu, 17 Oct 2024) EllapsedTime: 19.7 seconds RetCode: 0 Status: OK PackageFile: SpidermiR_1.34.0.zip PackageFileSize: 58.96 KiB