Package: SpotClean Version: 1.6.1 Command: rm -rf SpotClean.buildbin-libdir && mkdir SpotClean.buildbin-libdir && /Users/biocbuild/BBS/utils/build-universal.sh SpotClean_1.6.1.tar.gz /Library/Frameworks/R.framework/Resources/bin/R SpotClean.buildbin-libdir StartedAt: 2024-10-15 20:28:25 -0400 (Tue, 15 Oct 2024) EndedAt: 2024-10-15 20:29:21 -0400 (Tue, 15 Oct 2024) EllapsedTime: 55.7 seconds RetCode: 0 Status: OK PackageFile: SpotClean_1.6.1.tgz PackageFileSize: 4.334 MiB