Package: SpotClean Version: 1.6.1 Command: /Library/Frameworks/R.framework/Resources/bin/R CMD INSTALL SpotClean StartedAt: 2024-06-09 17:05:01 -0400 (Sun, 09 Jun 2024) EndedAt: 2024-06-09 17:05:58 -0400 (Sun, 09 Jun 2024) EllapsedTime: 57.6 seconds RetCode: 0 Status: OK