Package: SpotClean Version: 1.6.1 Command: /Library/Frameworks/R.framework/Resources/bin/R CMD build --keep-empty-dirs --no-resave-data SpotClean StartedAt: 2024-10-16 23:41:50 -0400 (Wed, 16 Oct 2024) EndedAt: 2024-10-16 23:47:39 -0400 (Wed, 16 Oct 2024) EllapsedTime: 348.9 seconds RetCode: 0 Status: OK PackageFile: SpotClean_1.6.1.tar.gz PackageFileSize: 4.274 MiB