Package: SpotClean Version: 1.6.1 Command: /Library/Frameworks/R.framework/Resources/bin/R CMD INSTALL SpotClean StartedAt: 2024-10-16 16:25:59 -0400 (Wed, 16 Oct 2024) EndedAt: 2024-10-16 16:27:26 -0400 (Wed, 16 Oct 2024) EllapsedTime: 86.5 seconds RetCode: 0 Status: OK