Package: SpotClean Version: 1.6.1 Command: E:\biocbuild\bbs-3.19-bioc\R\bin\R.exe CMD INSTALL SpotClean StartedAt: 2024-10-16 17:03:06 -0400 (Wed, 16 Oct 2024) EndedAt: 2024-10-16 17:03:55 -0400 (Wed, 16 Oct 2024) EllapsedTime: 48.8 seconds RetCode: 0 Status: OK