Package: StarBioTrek Version: 1.30.0 Command: rm -rf StarBioTrek.buildbin-libdir && mkdir StarBioTrek.buildbin-libdir && /Users/biocbuild/BBS/utils/build-universal.sh StarBioTrek_1.30.0.tar.gz /Library/Frameworks/R.framework/Resources/bin/R StarBioTrek.buildbin-libdir StartedAt: 2024-06-10 00:42:21 -0400 (Mon, 10 Jun 2024) EndedAt: 2024-06-10 00:43:03 -0400 (Mon, 10 Jun 2024) EllapsedTime: 42.2 seconds RetCode: 0 Status: OK PackageFile: StarBioTrek_1.30.0.tgz PackageFileSize: 9.955 MiB