Package: StarBioTrek Version: 1.30.0 Command: /home/biocbuild/bbs-3.19-bioc/R/bin/R CMD build --keep-empty-dirs --no-resave-data StarBioTrek StartedAt: 2024-10-16 21:03:16 -0400 (Wed, 16 Oct 2024) EndedAt: 2024-10-16 21:04:29 -0400 (Wed, 16 Oct 2024) EllapsedTime: 73.1 seconds RetCode: 0 Status: OK PackageFile: StarBioTrek_1.30.0.tar.gz PackageFileSize: 8.261 MiB