Package: Streamer Version: 1.50.0 Command: /home/biocbuild/R/R-beta-2024-04-15_r86425/bin/R CMD INSTALL Streamer StartedAt: 2024-05-08 20:08:32 -0000 (Wed, 08 May 2024) EndedAt: 2024-05-08 20:09:02 -0000 (Wed, 08 May 2024) EllapsedTime: 30.3 seconds RetCode: 0 Status: OK