Package: Streamer Version: 1.50.0 Command: /Library/Frameworks/R.framework/Resources/bin/R CMD check --install=check:Streamer.install-out.txt --library=/Library/Frameworks/R.framework/Resources/library --no-vignettes --timings Streamer_1.50.0.tar.gz StartedAt: 2024-10-17 13:59:11 -0400 (Thu, 17 Oct 2024) EndedAt: 2024-10-17 14:00:33 -0400 (Thu, 17 Oct 2024) EllapsedTime: 82.1 seconds RetCode: 0 Status: OK CheckDir: Streamer.Rcheck Warnings: 0