Package: Streamer Version: 1.50.0 Command: chmod a+r Streamer -R && F:\biocbuild\bbs-3.19-bioc\R\bin\R.exe CMD build --keep-empty-dirs --no-resave-data Streamer StartedAt: 2024-06-26 22:14:59 -0400 (Wed, 26 Jun 2024) EndedAt: 2024-06-26 22:15:32 -0400 (Wed, 26 Jun 2024) EllapsedTime: 32.7 seconds RetCode: 0 Status: OK PackageFile: Streamer_1.50.0.tar.gz PackageFileSize: 135.2 KiB