Package: Structstrings Version: 1.20.0 Command: /home/biocbuild/R/R-beta-2024-04-15_r86425/bin/R CMD build --keep-empty-dirs --no-resave-data Structstrings StartedAt: 2024-05-09 03:57:30 -0000 (Thu, 09 May 2024) EndedAt: 2024-05-09 03:58:10 -0000 (Thu, 09 May 2024) EllapsedTime: 39.1 seconds RetCode: 0 Status: OK PackageFile: Structstrings_1.20.0.tar.gz PackageFileSize: 438.4 KiB