Package: Structstrings Version: 1.20.0 Command: /Library/Frameworks/R.framework/Resources/bin/R CMD build --keep-empty-dirs --no-resave-data Structstrings StartedAt: 2024-06-09 18:22:03 -0400 (Sun, 09 Jun 2024) EndedAt: 2024-06-09 18:22:35 -0400 (Sun, 09 Jun 2024) EllapsedTime: 31.5 seconds RetCode: 0 Status: OK PackageFile: Structstrings_1.20.0.tar.gz PackageFileSize: 366.7 KiB