Package: Structstrings Version: 1.20.0 Command: /Library/Frameworks/R.framework/Resources/bin/R CMD check --install=check:Structstrings.install-out.txt --library=/Library/Frameworks/R.framework/Resources/library --no-vignettes --timings Structstrings_1.20.0.tar.gz StartedAt: 2024-10-17 14:00:33 -0400 (Thu, 17 Oct 2024) EndedAt: 2024-10-17 14:08:51 -0400 (Thu, 17 Oct 2024) EllapsedTime: 498.3 seconds RetCode: 0 Status: WARNINGS CheckDir: Structstrings.Rcheck Warnings: 1