Package: Structstrings Version: 1.20.0 Command: /home/biocbuild/bbs-3.19-bioc/R/bin/R CMD build --keep-empty-dirs --no-resave-data Structstrings StartedAt: 2024-10-16 21:04:27 -0400 (Wed, 16 Oct 2024) EndedAt: 2024-10-16 21:04:54 -0400 (Wed, 16 Oct 2024) EllapsedTime: 27.1 seconds RetCode: 0 Status: OK PackageFile: Structstrings_1.20.0.tar.gz PackageFileSize: 366.9 KiB